BEGIN:VCALENDAR
VERSION:2.0
PRODID:-//Tukios.com/
BEGIN:VEVENT
UID:ca427f4b-797e-4f57-a149-a5bb632aa245@www.akcoffmanfh.com
DTSTAMP:20260421T053149Z
DTSTART:20260424T210000Z
DTEND:20260424T230000Z
SUMMARY:Visitation
DESCRIPTION:
URL:https://www.akcoffmanfh.com/obituaries/robert-kline
LOCATION:Andrew K. Coffman Funeral Home 40 East Antietam Street  
	Hagerstown MD 21740
GEO:39.6406903;-77.7195494
END:VEVENT
END:VCALENDAR