BEGIN:VCALENDAR
VERSION:2.0
PRODID:-//Tukios.com/
BEGIN:VEVENT
UID:87ab4418-2d96-40d9-9d9d-569ce8fe5fc6@www.akcoffmanfh.com
DTSTAMP:20260421T052900Z
DTSTART:20260425T150000Z
DTEND:20260425T160000Z
SUMMARY:Graveside Service
DESCRIPTION:
URL:https://www.akcoffmanfh.com/obituaries/robert-kline
LOCATION:Cedar Lawn Memorial Park 17636 W Washington St  Hagerstown MD 
	21740
GEO:39.6516668;-77.7573675
END:VEVENT
END:VCALENDAR